BEGIN:VCALENDAR
VERSION:2.0
PRODID:-//wp-events-plugin.com//7.2.3.1//EN
TZID:America/New_York
X-WR-TIMEZONE:America/New_York
BEGIN:VEVENT
UID:1349@goriverwalk.com
DTSTART;TZID=America/New_York:20160124T190000
DTEND;TZID=America/New_York:20160124T210000
DTSTAMP:20151207T215112Z
URL:https://www.goriverwalk.com/greater-fort-lauderdale-events/marianas-tr
 ench-with-secret-someones
SUMMARY:Mariana's Trench with Secret Someones
DESCRIPTION:One of Canada’s most successful bands of the past decade\, Ma
 rianas Trench have built their name on relentless touring and engagement w
 ith their fans through social media.
ATTACH;FMTTYPE=image/jpeg:https://www.goriverwalk.com/wp-content/uploads/2
 015/12/Default-calendar.jpg
CATEGORIES:Music
LOCATION:Revolution Live\, 100 SW 3rd Avenue\, Fort Lauderdale\, FL\, 33312
 \, United States
GEO:26.1213372;-80.14640580000003
X-APPLE-STRUCTURED-LOCATION;VALUE=URI;X-ADDRESS=100 SW 3rd Avenue\, Fort La
 uderdale\, FL\, 33312\, United States;X-APPLE-RADIUS=100;X-TITLE=Revolutio
 n Live:geo:26.1213372,-80.14640580000003
END:VEVENT
BEGIN:VTIMEZONE
TZID:America/New_York
X-LIC-LOCATION:America/New_York
BEGIN:STANDARD
DTSTART:20151101T010000
TZOFFSETFROM:-0400
TZOFFSETTO:-0500
TZNAME:EST
END:STANDARD
END:VTIMEZONE
END:VCALENDAR