BEGIN:VCALENDAR
VERSION:2.0
PRODID:-//wp-events-plugin.com//7.2.3.1//EN
TZID:America/New_York
X-WR-TIMEZONE:America/New_York
BEGIN:VEVENT
UID:4834@goriverwalk.com
DTSTART;TZID=America/New_York:20180609T090000
DTEND;TZID=America/New_York:20180609T130000
DTSTAMP:20180509T190856Z
URL:https://www.goriverwalk.com/greater-fort-lauderdale-events/march-for-t
 he-ocean
SUMMARY:March For The Ocean
DESCRIPTION:Celebrating World Oceans Day
ATTACH;FMTTYPE=image/jpeg:https://www.goriverwalk.com/wp-content/uploads/2
 018/05/M4ORound_small_web.jpg
CATEGORIES:Community,Fundraiser
LOCATION:Charnow Park\, 300 Connecticut Street\, Hollywood\, Florida\, 3301
 9\, Hollywood Beach Broadwalk\, United States
GEO:26.0224045;-80.11533889999998
X-APPLE-STRUCTURED-LOCATION;VALUE=URI;X-ADDRESS=300 Connecticut Street\, Ho
 llywood\, Florida\, 33019\, Hollywood Beach Broadwalk\, United States;X-AP
 PLE-RADIUS=100;X-TITLE=Charnow Park:geo:26.0224045,-80.11533889999998
END:VEVENT
BEGIN:VTIMEZONE
TZID:America/New_York
X-LIC-LOCATION:America/New_York
BEGIN:DAYLIGHT
DTSTART:20180311T030000
TZOFFSETFROM:-0500
TZOFFSETTO:-0400
TZNAME:EDT
END:DAYLIGHT
END:VTIMEZONE
END:VCALENDAR