BEGIN:VCALENDAR
VERSION:2.0
PRODID:-//wp-events-plugin.com//7.2.3.1//EN
TZID:America/New_York
X-WR-TIMEZONE:America/New_York
BEGIN:VEVENT
UID:6548@goriverwalk.com
DTSTART;TZID=America/New_York:20190223T090000
DTEND;TZID=America/New_York:20190223T180000
DTSTAMP:20190218T170221Z
URL:https://www.goriverwalk.com/greater-fort-lauderdale-events/many-lives-
 many-masters-experiencing-your-past-lives
SUMMARY:Many Lives\, Many Masters Experiencing Your Past Lives
DESCRIPTION:With author Brian L. Weiss\, MD
ATTACH;FMTTYPE=image/jpeg:https://www.goriverwalk.com/wp-content/uploads/2
 018/12/140x200-ManylivesManyMaster-Fort-Lauderdale.jpg
CATEGORIES:Education
LOCATION:Broward County Convention Center\, 1950 Eisenhower Boulevard\, For
 t Lauderdale\, Florida\, 33316\, United States
GEO:26.098818;-80.12294800000001
X-APPLE-STRUCTURED-LOCATION;VALUE=URI;X-ADDRESS=1950 Eisenhower Boulevard\,
  Fort Lauderdale\, Florida\, 33316\, United States;X-APPLE-RADIUS=100;X-TI
 TLE=Broward County Convention Center:geo:26.098818,-80.12294800000001
END:VEVENT
BEGIN:VTIMEZONE
TZID:America/New_York
X-LIC-LOCATION:America/New_York
BEGIN:STANDARD
DTSTART:20181104T010000
TZOFFSETFROM:-0400
TZOFFSETTO:-0500
TZNAME:EST
END:STANDARD
END:VTIMEZONE
END:VCALENDAR