BEGIN:VCALENDAR
VERSION:2.0
PRODID:-//wp-events-plugin.com//7.2.3.1//EN
TZID:America/New_York
X-WR-TIMEZONE:America/New_York
BEGIN:VEVENT
UID:10010@goriverwalk.com
DTSTART;TZID=America/New_York:20220204T193000
DTEND;TZID=America/New_York:20220204T234500
DTSTAMP:20211105T165055Z
URL:https://www.goriverwalk.com/greater-fort-lauderdale-events/man-in-the-
 mirror
SUMMARY:Man in the Mirror
DESCRIPTION:An electrifying show!
ATTACH;FMTTYPE=image/jpeg:https://www.goriverwalk.com/wp-content/uploads/2
 020/07/man-in-the-mirror.jpg
CATEGORIES:Art,Cultural,Dance,Music,Theater
LOCATION:Lauderhill Performing Arts Center\, 3800 NW 11th Place\, Lauderhil
 l\, FL\, 33311\, Broward County\, United States
X-APPLE-STRUCTURED-LOCATION;VALUE=URI;X-ADDRESS=3800 NW 11th Place\, Lauder
 hill\, FL\, 33311\, Broward County\, United States;X-APPLE-RADIUS=100;X-TI
 TLE=Lauderhill Performing Arts Center:geo:0,0
END:VEVENT
BEGIN:VTIMEZONE
TZID:America/New_York
X-LIC-LOCATION:America/New_York
BEGIN:STANDARD
DTSTART:20211107T010000
TZOFFSETFROM:-0400
TZOFFSETTO:-0500
TZNAME:EST
END:STANDARD
END:VTIMEZONE
END:VCALENDAR