BEGIN:VCALENDAR
VERSION:2.0
PRODID:-//wp-events-plugin.com//7.2.3.1//EN
TZID:America/New_York
X-WR-TIMEZONE:America/New_York
BEGIN:VEVENT
UID:17057@goriverwalk.com
DTSTART;TZID=America/New_York:20230601T200000
DTEND;TZID=America/New_York:20230601T220000
DTSTAMP:20230525T191607Z
URL:https://www.goriverwalk.com/greater-fort-lauderdale-events/majesty-of-
 rock-the-music-of-journey-styx
SUMMARY:Majesty of Rock - The Music of Journey & Styx
DESCRIPTION:A tribute to two legendary rock bands
ATTACH;FMTTYPE=image/jpeg:https://www.goriverwalk.com/wp-content/uploads/2
 023/05/Majesty-of-Rock-at-The-Casino-@-Dania-Beach.jpeg
CATEGORIES:Music
LOCATION:The Casino @ Dania Beach\, 301 E. Dania Beach Boulevard\, Dania Be
 ach\, FL\, 33004\, Florida\, United States
X-APPLE-STRUCTURED-LOCATION;VALUE=URI;X-ADDRESS=301 E. Dania Beach Boulevar
 d\, Dania Beach\, FL\, 33004\, Florida\, United States;X-APPLE-RADIUS=100;
 X-TITLE=The Casino @ Dania Beach:geo:0,0
END:VEVENT
BEGIN:VTIMEZONE
TZID:America/New_York
X-LIC-LOCATION:America/New_York
BEGIN:DAYLIGHT
DTSTART:20230312T030000
TZOFFSETFROM:-0500
TZOFFSETTO:-0400
TZNAME:EDT
END:DAYLIGHT
END:VTIMEZONE
END:VCALENDAR