BEGIN:VCALENDAR
VERSION:2.0
PRODID:-//wp-events-plugin.com//7.2.3.1//EN
TZID:America/New_York
X-WR-TIMEZONE:America/New_York
BEGIN:VEVENT
UID:5000@goriverwalk.com
DTSTART;TZID=America/New_York:20180616T090000
DTEND;TZID=America/New_York:20180616T160000
DTSTAMP:20180614T144954Z
URL:https://www.goriverwalk.com/greater-fort-lauderdale-events/made-in-bro
 ward-open-house
SUMMARY:Made in Broward Open House
DESCRIPTION:Find the perfect gift for Dad
ATTACH;FMTTYPE=image/jpeg:https://www.goriverwalk.com/wp-content/uploads/2
 018/06/MIB-fathers-day.png
CATEGORIES:Community,Holiday
LOCATION:Made in Broward\, 500 NE 1st Avenue\, Fort Lauderdale\, FL\, 33301
 \, United States
GEO:26.1280301;-80.14260999999999
X-APPLE-STRUCTURED-LOCATION;VALUE=URI;X-ADDRESS=500 NE 1st Avenue\, Fort La
 uderdale\, FL\, 33301\, United States;X-APPLE-RADIUS=100;X-TITLE=Made in B
 roward:geo:26.1280301,-80.14260999999999
END:VEVENT
BEGIN:VTIMEZONE
TZID:America/New_York
X-LIC-LOCATION:America/New_York
BEGIN:DAYLIGHT
DTSTART:20180311T030000
TZOFFSETFROM:-0500
TZOFFSETTO:-0400
TZNAME:EDT
END:DAYLIGHT
END:VTIMEZONE
END:VCALENDAR