BEGIN:VCALENDAR
VERSION:2.0
PRODID:-//wp-events-plugin.com//7.2.3.1//EN
TZID:America/New_York
X-WR-TIMEZONE:America/New_York
BEGIN:VEVENT
UID:22394@goriverwalk.com
DTSTART;TZID=America/New_York:20260426T060000
DTEND;TZID=America/New_York:20260426T103000
DTSTAMP:20260304T161352Z
URL:https://www.goriverwalk.com/greater-fort-lauderdale-events/madd-dash-f
 ort-lauderdale-5k
SUMMARY:MADD Dash Fort Lauderdale 5K
DESCRIPTION:In the ongoing fight against drunk driving and drugged driving\
 , MADD Southeast Florida will host the 15th Annual UKG &amp\; Salah Fo
 undation Hero’s Pride Move With MADD &amp\; MADD Dash Fort Lauderda
 le 5K Presented by the Florida Panthers &amp\; the Sheriff’s Foundation 
 of Broward County on Sunday\, April 26. Thousands of walkers\, runners\,
  strollers\, wheelchair athletes\, dogs and supporters of all ages will co
 me together in downtown Fort Lauderdale to take steps to raise awareness a
 nd funds to end impaired driving for good. The in-person race will start
  near Huizenga Plaza at 7:30 a.m. Awards will be given for top fundraiser\
 , top team (private and corporate)\, as well as overall and age-group awar
 ds for 5K finishers.\nMove With MADD &amp\; MADD Dash Fort Lauderdale 5K 
 is a community-driven 5K that raises awareness about drunk and drugged dri
 ving and underage drinking while uniting community members around MADD’s
  mission. Since it was established in 2011\, Move With MADD &amp\; MADD D
 ash Fort Lauderdale 5K has raised more than $4.2 million that stays in th
 e South Florida community to save lives and support victims of drunk drivi
 ng\, making it the most successful grassroots fundraiser in the history of
  MADD. Every dollar donated remains in South Florida to provide victim ser
 vices and prevention education at no cost.\nFestivities will include child
 ren’s activities\, an awards ceremony\, live musical performances\, and 
 vendor/educational booths. The event will be attended by dignitaries\, inc
 luding Move With MADD and MADD Dash Fort Lauderdale 5K Founder and Chairp
 erson Heather Geronemus\; Honorary Chairperson Colonel Nichole Anderson\,
  Undersheriff of Broward Sheriff’s Office\; Broward County Sheriff Grego
 ry Tony\; Sgt. Ryan Clifton from Broward Sheriff’s Office\; Sgt. Trevor
  Thomas from Fort Lauderdale Police Department’s DUI Unit\; and Lt. Indi
 ana Miranda from Florida Highway Patrol.\nClick here for more information 
 and registration.
ATTACH;FMTTYPE=image/jpeg:https://www.goriverwalk.com/wp-content/uploads/2
 026/02/MADD-Dash-SQ.png
CATEGORIES:Community,Fundraiser,Hobby,Sports
LOCATION:Huizenga Plaza\, 32 East Las Olas Boulevard\, Fort Lauderdale\, FL
 \, 33301\, United States
GEO:26.1193664;-80.14303430000001
X-APPLE-STRUCTURED-LOCATION;VALUE=URI;X-ADDRESS=32 East Las Olas Boulevard\
 , Fort Lauderdale\, FL\, 33301\, United States;X-APPLE-RADIUS=100;X-TITLE=
 Huizenga Plaza:geo:26.1193664,-80.14303430000001
END:VEVENT
BEGIN:VTIMEZONE
TZID:America/New_York
X-LIC-LOCATION:America/New_York
BEGIN:DAYLIGHT
DTSTART:20260308T030000
TZOFFSETFROM:-0500
TZOFFSETTO:-0400
TZNAME:EDT
END:DAYLIGHT
END:VTIMEZONE
END:VCALENDAR