BEGIN:VCALENDAR
VERSION:2.0
PRODID:-//wp-events-plugin.com//7.2.3.1//EN
TZID:America/New_York
X-WR-TIMEZONE:America/New_York
BEGIN:VEVENT
UID:22370@goriverwalk.com
DTSTART;TZID=America/New_York:20260214T110000
DTEND;TZID=America/New_York:20260214T130000
DTSTAMP:20260209T215655Z
URL:https://www.goriverwalk.com/greater-fort-lauderdale-events/love-in-the
 -park-junk-journaling
SUMMARY:Love in the Park: Junk Journaling
DESCRIPTION:Hands-on creative workshop celebrating love in all its forms
ATTACH;FMTTYPE=image/jpeg:https://www.goriverwalk.com/wp-content/uploads/2
 026/02/2.14.26-Love.jpg
CATEGORIES:Free,Holiday
LOCATION:Huizenga Park\, 32 E. Las Olas Boulevard\,  Fort Lauderdale\, Flor
 ida\, 33301\, United States
GEO:26.1193801;-80.14302329999998
X-APPLE-STRUCTURED-LOCATION;VALUE=URI;X-ADDRESS=32 E. Las Olas Boulevard\, 
  Fort Lauderdale\, Florida\, 33301\, United States;X-APPLE-RADIUS=100;X-TI
 TLE=Huizenga Park:geo:26.1193801,-80.14302329999998
END:VEVENT
BEGIN:VTIMEZONE
TZID:America/New_York
X-LIC-LOCATION:America/New_York
BEGIN:STANDARD
DTSTART:20251102T010000
TZOFFSETFROM:-0400
TZOFFSETTO:-0500
TZNAME:EST
END:STANDARD
END:VTIMEZONE
END:VCALENDAR