BEGIN:VCALENDAR
VERSION:2.0
PRODID:-//wp-events-plugin.com//7.2.3.1//EN
TZID:America/New_York
X-WR-TIMEZONE:America/New_York
BEGIN:VEVENT
UID:3857@goriverwalk.com
DTSTART;TZID=America/New_York:20180310T183000
DTEND;TZID=America/New_York:20180310T220000
DTSTAMP:20171222T211846Z
URL:https://www.goriverwalk.com/greater-fort-lauderdale-events/live-from-s
 outh-florida-its-saturday-night-2
SUMMARY:Live from South Florida...It's Saturday Night
DESCRIPTION:Fundraiser featuring comedian Kira Soltanovich and musical gue
 st Keba.
ATTACH;FMTTYPE=image/jpeg:https://www.goriverwalk.com/wp-content/uploads/2
 017/12/Kira-Soltanovich.jpg
CATEGORIES:Cultural,Fundraiser
LOCATION:Gilda's Club South Florida\, 119 Rose Drive\, Fort Lauderdale\, FL
 \, 33316\, United States
GEO:26.108702;-80.141861
X-APPLE-STRUCTURED-LOCATION;VALUE=URI;X-ADDRESS=119 Rose Drive\, Fort Laude
 rdale\, FL\, 33316\, United States;X-APPLE-RADIUS=100;X-TITLE=Gilda's Club
  South Florida:geo:26.108702,-80.141861
END:VEVENT
BEGIN:VTIMEZONE
TZID:America/New_York
X-LIC-LOCATION:America/New_York
BEGIN:STANDARD
DTSTART:20171105T010000
TZOFFSETFROM:-0400
TZOFFSETTO:-0500
TZNAME:EST
END:STANDARD
END:VTIMEZONE
END:VCALENDAR