BEGIN:VCALENDAR
VERSION:2.0
PRODID:-//wp-events-plugin.com//7.2.3.1//EN
TZID:America/New_York
X-WR-TIMEZONE:America/New_York
BEGIN:VEVENT
UID:9700@goriverwalk.com
DTSTART;TZID=America/New_York:20200319T110000
DTEND;TZID=America/New_York:20200403T123000
DTSTAMP:20200319T203117Z
URL:https://www.goriverwalk.com/greater-fort-lauderdale-events/live-from-f
 ort-lauderdale-historic-stranahan-house-museum-live-stream
SUMMARY:Live from Fort Lauderdale : Historic Stranahan House Museum Live St
 ream
DESCRIPTION:Field trips\, history tours and more!
ATTACH;FMTTYPE=image/jpeg:https://www.goriverwalk.com/wp-content/uploads/2
 020/03/stranahan-live-stream.jpg
CATEGORIES:Education
END:VEVENT
BEGIN:VTIMEZONE
TZID:America/New_York
X-LIC-LOCATION:America/New_York
BEGIN:DAYLIGHT
DTSTART:20200308T030000
TZOFFSETFROM:-0500
TZOFFSETTO:-0400
TZNAME:EDT
END:DAYLIGHT
END:VTIMEZONE
END:VCALENDAR