BEGIN:VCALENDAR
VERSION:2.0
PRODID:-//wp-events-plugin.com//7.2.3.1//EN
TZID:America/New_York
X-WR-TIMEZONE:America/New_York
BEGIN:VEVENT
UID:6668@goriverwalk.com
DTSTART;TZID=America/New_York:20190301T180000
DTEND;TZID=America/New_York:20190301T200000
DTSTAMP:20181227T193836Z
URL:https://www.goriverwalk.com/greater-fort-lauderdale-events/litlive-2
SUMMARY:LitLIVE!
DESCRIPTION:Held at three B&amp\;N locations
ATTACH;FMTTYPE=image/jpeg:https://www.goriverwalk.com/wp-content/uploads/2
 018/12/Screen-Shot-2018-12-27-at-11.37.47-AM.png
CATEGORIES:Fundraiser
LOCATION:Barnes &amp\; Noble\, 2051 North Federal Highway\, Fort Lauderale\
 , FL\, 33305\, United States
GEO:26.1544354;-80.11917319999998
X-APPLE-STRUCTURED-LOCATION;VALUE=URI;X-ADDRESS=2051 North Federal Highway\
 , Fort Lauderale\, FL\, 33305\, United States;X-APPLE-RADIUS=100;X-TITLE=B
 arnes & Noble:geo:26.1544354,-80.11917319999998
END:VEVENT
BEGIN:VTIMEZONE
TZID:America/New_York
X-LIC-LOCATION:America/New_York
BEGIN:STANDARD
DTSTART:20181104T010000
TZOFFSETFROM:-0400
TZOFFSETTO:-0500
TZNAME:EST
END:STANDARD
END:VTIMEZONE
END:VCALENDAR