BEGIN:VCALENDAR
VERSION:2.0
PRODID:-//wp-events-plugin.com//7.2.3.1//EN
TZID:America/New_York
X-WR-TIMEZONE:America/New_York
BEGIN:VEVENT
UID:15328@goriverwalk.com
DTSTART;TZID=America/New_York:20221122T173000
DTEND;TZID=America/New_York:20221122T203000
DTSTAMP:20221014T183140Z
URL:https://www.goriverwalk.com/greater-fort-lauderdale-events/light-up-th
 e-beach-2
SUMMARY:Light Up the Beach
DESCRIPTION:Featuring “Olas\,” our larger-than-life 20-foot beach snowm
 an
ATTACH;FMTTYPE=image/jpeg:https://www.goriverwalk.com/wp-content/uploads/2
 022/10/LIGHT-UP-THE-BEACH.jpg
CATEGORIES:Children,Community,Cultural,Holiday,Music
LOCATION:Las Olas Oceanside Park\, 3000 E. Las Olas Blvd.\, Fort Lauderdale
 \, FL\, 33316\, United States
X-APPLE-STRUCTURED-LOCATION;VALUE=URI;X-ADDRESS=3000 E. Las Olas Blvd.\, Fo
 rt Lauderdale\, FL\, 33316\, United States;X-APPLE-RADIUS=100;X-TITLE=Las 
 Olas Oceanside Park:geo:0,0
END:VEVENT
BEGIN:VTIMEZONE
TZID:America/New_York
X-LIC-LOCATION:America/New_York
BEGIN:STANDARD
DTSTART:20221106T010000
TZOFFSETFROM:-0400
TZOFFSETTO:-0500
TZNAME:EST
END:STANDARD
END:VTIMEZONE
END:VCALENDAR