BEGIN:VCALENDAR
VERSION:2.0
PRODID:-//wp-events-plugin.com//7.2.3.1//EN
TZID:America/New_York
X-WR-TIMEZONE:America/New_York
BEGIN:VEVENT
UID:17632@goriverwalk.com
DTSTART;TZID=America/New_York:20231109T173000
DTEND;TZID=America/New_York:20231109T203000
DTSTAMP:20231002T203010Z
URL:https://www.goriverwalk.com/greater-fort-lauderdale-events/light-up-la
 uderdale-2
SUMMARY:Light Up Lauderdale
DESCRIPTION:Fort Lauderdale's holiday kick off!
ATTACH;FMTTYPE=image/jpeg:https://www.goriverwalk.com/wp-content/uploads/2
 023/09/8416-Light-Up-Lauderdale-2023-Riverwalk-Ad_09082023-PRESS-e16962768
 48160.png
CATEGORIES:Community,Cultural,Food,Music,Riverwalk Front Page,Riverwalk
 Happenings
LOCATION:Esplanade Park\, 400 SW 2nd Street\, Fort Lauderdale\, Florida\, 3
 3312\, United States
GEO:26.120046;-80.14795199999998
X-APPLE-STRUCTURED-LOCATION;VALUE=URI;X-ADDRESS=400 SW 2nd Street\, Fort La
 uderdale\, Florida\, 33312\, United States;X-APPLE-RADIUS=100;X-TITLE=Espl
 anade Park:geo:26.120046,-80.14795199999998
END:VEVENT
BEGIN:VTIMEZONE
TZID:America/New_York
X-LIC-LOCATION:America/New_York
BEGIN:STANDARD
DTSTART:20231105T010000
TZOFFSETFROM:-0400
TZOFFSETTO:-0500
TZNAME:EST
END:STANDARD
END:VTIMEZONE
END:VCALENDAR