BEGIN:VCALENDAR
VERSION:2.0
PRODID:-//wp-events-plugin.com//7.2.3.1//EN
TZID:America/New_York
X-WR-TIMEZONE:America/New_York
BEGIN:VEVENT
UID:21823@goriverwalk.com
DTSTART;TZID=America/New_York:20251212T170000
DTEND;TZID=America/New_York:20251212T200000
DTSTAMP:20251209T203612Z
URL:https://www.goriverwalk.com/greater-fort-lauderdale-events/light-up-ca
 rter-park-5
SUMMARY:Light Up Carter Park
DESCRIPTION:Enjoy holiday cheer and fun for the entire family!\n
ATTACH;FMTTYPE=image/jpeg:https://www.goriverwalk.com/wp-content/uploads/2
 025/12/12-12-25-Carter.jpg
CATEGORIES:Children,Free,Holiday
LOCATION:Joseph C. Carter Park\, 1450 W Sunrise Boulevard\, Fort Lauderdale
 \, FL\, United States
GEO:26.1352225;-80.16227420000001
X-APPLE-STRUCTURED-LOCATION;VALUE=URI;X-ADDRESS=1450 W Sunrise Boulevard\, 
 Fort Lauderdale\, FL\, United States;X-APPLE-RADIUS=100;X-TITLE=Joseph C. 
 Carter Park:geo:26.1352225,-80.16227420000001
END:VEVENT
BEGIN:VTIMEZONE
TZID:America/New_York
X-LIC-LOCATION:America/New_York
BEGIN:STANDARD
DTSTART:20251102T010000
TZOFFSETFROM:-0400
TZOFFSETTO:-0500
TZNAME:EST
END:STANDARD
END:VTIMEZONE
END:VCALENDAR