BEGIN:VCALENDAR
VERSION:2.0
PRODID:-//wp-events-plugin.com//7.2.3.1//EN
TZID:America/New_York
X-WR-TIMEZONE:America/New_York
BEGIN:VEVENT
UID:12770@goriverwalk.com
DTSTART;TZID=America/New_York:20211211T150000
DTEND;TZID=America/New_York:20211211T190000
DTSTAMP:20211102T181405Z
URL:https://www.goriverwalk.com/greater-fort-lauderdale-events/light-up-ca
 rter-park-2
SUMMARY:Light Up Carter Park
DESCRIPTION:Enjoy holiday cheer with live performances!
ATTACH;FMTTYPE=image/jpeg:https://www.goriverwalk.com/wp-content/uploads/2
 021/11/LightUpCarterPark_sq.jpg
CATEGORIES:Community,Cultural,Holiday
END:VEVENT
BEGIN:VTIMEZONE
TZID:America/New_York
X-LIC-LOCATION:America/New_York
BEGIN:STANDARD
DTSTART:20211107T010000
TZOFFSETFROM:-0400
TZOFFSETTO:-0500
TZNAME:EST
END:STANDARD
END:VTIMEZONE
END:VCALENDAR