BEGIN:VCALENDAR
VERSION:2.0
PRODID:-//wp-events-plugin.com//7.2.3.1//EN
TZID:America/New_York
X-WR-TIMEZONE:America/New_York
BEGIN:VEVENT
UID:15412@goriverwalk.com
DTSTART;TZID=America/New_York:20221115T190000
DTEND;TZID=America/New_York:20221115T200000
DTSTAMP:20221025T190225Z
URL:https://www.goriverwalk.com/greater-fort-lauderdale-events/learn-how-t
 o-learn
SUMMARY:Learn How to Learn
DESCRIPTION:For Children and Teens with Learning Differences
ATTACH;FMTTYPE=image/jpeg:https://www.goriverwalk.com/wp-content/uploads/2
 022/10/Oval-Speaker-Photos-Mark-and-Mira-Hilton-copy.png
CATEGORIES:Education
END:VEVENT
BEGIN:VTIMEZONE
TZID:America/New_York
X-LIC-LOCATION:America/New_York
BEGIN:STANDARD
DTSTART:20221106T010000
TZOFFSETFROM:-0400
TZOFFSETTO:-0500
TZNAME:EST
END:STANDARD
END:VTIMEZONE
END:VCALENDAR