BEGIN:VCALENDAR
VERSION:2.0
PRODID:-//wp-events-plugin.com//7.2.3.1//EN
TZID:America/New_York
X-WR-TIMEZONE:America/New_York
BEGIN:VEVENT
UID:15136@goriverwalk.com
DTSTART;TZID=America/New_York:20221006T123000
DTEND;TZID=America/New_York:20221006T133000
DTSTAMP:20220923T184715Z
URL:https://www.goriverwalk.com/greater-fort-lauderdale-events/leadership-
 browards-serving-up-leadership
SUMMARY:Leadership Broward’s "Serving Up Leadership" series
DESCRIPTION:Featuring Superintendent of Broward County Public Schools\, Dr.
  Vickie L. Cartwright
ATTACH;FMTTYPE=image/jpeg:https://www.goriverwalk.com/wp-content/uploads/2
 022/09/Vicky-Cartwright.png
CATEGORIES:Community,Education,Networking
LOCATION:Boatyard\, 1555 SE 17th Street\, Fort Lauderdale\, FL\, 33334\, Un
 ited States
GEO:26.1021685;-80.12591529999997
X-APPLE-STRUCTURED-LOCATION;VALUE=URI;X-ADDRESS=1555 SE 17th Street\, Fort 
 Lauderdale\, FL\, 33334\, United States;X-APPLE-RADIUS=100;X-TITLE=Boatyar
 d:geo:26.1021685,-80.12591529999997
END:VEVENT
BEGIN:VTIMEZONE
TZID:America/New_York
X-LIC-LOCATION:America/New_York
BEGIN:DAYLIGHT
DTSTART:20220313T030000
TZOFFSETFROM:-0500
TZOFFSETTO:-0400
TZNAME:EDT
END:DAYLIGHT
END:VTIMEZONE
END:VCALENDAR