BEGIN:VCALENDAR
VERSION:2.0
PRODID:-//wp-events-plugin.com//7.2.3.1//EN
TZID:America/New_York
X-WR-TIMEZONE:America/New_York
BEGIN:VEVENT
UID:20801@goriverwalk.com
DTSTART;TZID=America/New_York:20250501T100000
DTEND;TZID=America/New_York:20250629T160000
DTSTAMP:20250422T150624Z
URL:https://www.goriverwalk.com/greater-fort-lauderdale-events/lauderdale-
 living-the-architecture-of-possibilities-exhibit
SUMMARY:“Lauderdale Living: The Architecture of Possibilities” Exhibit
DESCRIPTION:In celebration of National Historic Preservation Month
ATTACH;FMTTYPE=image/jpeg:https://www.goriverwalk.com/wp-content/uploads/2
 025/04/rsz_mid-cent_exhibit_social_v2.jpg
CATEGORIES:Art,Community
LOCATION:History Fort Lauderdale\, 231 SW 2nd Avenue\, Fort Lauderdale\, Fl
 orida\, 33301\, United States
GEO:26.1191853;-80.14595480000003
X-APPLE-STRUCTURED-LOCATION;VALUE=URI;X-ADDRESS=231 SW 2nd Avenue\, Fort La
 uderdale\, Florida\, 33301\, United States;X-APPLE-RADIUS=100;X-TITLE=Hist
 ory Fort Lauderdale:geo:26.1191853,-80.14595480000003
END:VEVENT
BEGIN:VTIMEZONE
TZID:America/New_York
X-LIC-LOCATION:America/New_York
BEGIN:DAYLIGHT
DTSTART:20250309T030000
TZOFFSETFROM:-0500
TZOFFSETTO:-0400
TZNAME:EDT
END:DAYLIGHT
END:VTIMEZONE
END:VCALENDAR