BEGIN:VCALENDAR
VERSION:2.0
PRODID:-//wp-events-plugin.com//7.2.3.1//EN
TZID:America/New_York
X-WR-TIMEZONE:America/New_York
BEGIN:VEVENT
UID:12863@goriverwalk.com
DTSTART;TZID=America/New_York:20211126T173000
DTEND;TZID=America/New_York:20220216T213000
DTSTAMP:20220215T173436Z
URL:https://www.goriverwalk.com/greater-fort-lauderdale-events/lauder-nigh
 t-market
SUMMARY:Lauder Night Market
DESCRIPTION:Weekly Flagler Village Market
ATTACH;FMTTYPE=image/jpeg:https://www.goriverwalk.com/wp-content/uploads/2
 021/11/Lauder_night_logo_sq.jpg
CATEGORIES:Art,Community,Food,Music
LOCATION:Peter Feldman Park\, 310 NE 6th Street\, Fort Lauderdale\, FL\, 33
 304\, United States
GEO:26.1297321;-80.14009550000003
X-APPLE-STRUCTURED-LOCATION;VALUE=URI;X-ADDRESS=310 NE 6th Street\, Fort La
 uderdale\, FL\, 33304\, United States;X-APPLE-RADIUS=100;X-TITLE=Peter Fel
 dman Park:geo:26.1297321,-80.14009550000003
END:VEVENT
BEGIN:VTIMEZONE
TZID:America/New_York
X-LIC-LOCATION:America/New_York
BEGIN:STANDARD
DTSTART:20211107T010000
TZOFFSETFROM:-0400
TZOFFSETTO:-0500
TZNAME:EST
END:STANDARD
END:VTIMEZONE
END:VCALENDAR