BEGIN:VCALENDAR
VERSION:2.0
PRODID:-//wp-events-plugin.com//7.2.3.1//EN
TZID:America/New_York
X-WR-TIMEZONE:America/New_York
BEGIN:VEVENT
UID:20881@goriverwalk.com
DTSTART;TZID=America/New_York:20250626T190000
DTEND;TZID=America/New_York:20250626T210000
DTSTAMP:20250606T190953Z
URL:https://www.goriverwalk.com/greater-fort-lauderdale-events/latin-stree
 t-food
SUMMARY:Latin Street Food
DESCRIPTION:Part of the Chef Experience Dinner series
ATTACH;FMTTYPE=image/jpeg:https://www.goriverwalk.com/wp-content/uploads/2
 025/05/IMG_1524-4.jpg
CATEGORIES:Food,Fundraiser
LOCATION:The Emeril Lagasse Foundation Innovation Kitchen at Arc Culinary\,
  10250 Northwest 53rd Street\, Sunrise\, FL\, 33351\, United States
X-APPLE-STRUCTURED-LOCATION;VALUE=URI;X-ADDRESS=10250 Northwest 53rd Street
 \, Sunrise\, FL\, 33351\, United States;X-APPLE-RADIUS=100;X-TITLE=The Eme
 ril Lagasse Foundation Innovation Kitchen at Arc Culinary:geo:0,0
END:VEVENT
BEGIN:VTIMEZONE
TZID:America/New_York
X-LIC-LOCATION:America/New_York
BEGIN:DAYLIGHT
DTSTART:20250309T030000
TZOFFSETFROM:-0500
TZOFFSETTO:-0400
TZNAME:EDT
END:DAYLIGHT
END:VTIMEZONE
END:VCALENDAR