BEGIN:VCALENDAR
VERSION:2.0
PRODID:-//wp-events-plugin.com//7.2.3.1//EN
TZID:America/New_York
X-WR-TIMEZONE:America/New_York
BEGIN:VEVENT
UID:18569@goriverwalk.com
DTSTART;TZID=America/Detroit:20240419T193000
DTEND;TZID=America/Detroit:20240419T223000
DTSTAMP:20240131T172707Z
URL:https://www.goriverwalk.com/greater-fort-lauderdale-events/las-olas-wi
 ne-and-food-festival
SUMMARY:Las Olas Wine and Food Festival
DESCRIPTION: 28th Anniversary
ATTACH;FMTTYPE=image/jpeg:https://www.goriverwalk.com/wp-content/uploads/2
 024/01/7GiGwVfFpkixisP5-LwcEA.large_.jpg
CATEGORIES:Festival,Food
LOCATION:Los Olas Boulevard\, 600 E Las Olas Blvd\, Fort Lauderdale\, FL \,
  33301\, United States
X-APPLE-STRUCTURED-LOCATION;VALUE=URI;X-ADDRESS=600 E Las Olas Blvd\, Fort 
 Lauderdale\, FL \, 33301\, United States;X-APPLE-RADIUS=100;X-TITLE=Los Ol
 as Boulevard:geo:0,0
END:VEVENT
BEGIN:VTIMEZONE
TZID:America/Detroit
X-LIC-LOCATION:America/Detroit
BEGIN:DAYLIGHT
DTSTART:20240310T030000
TZOFFSETFROM:-0500
TZOFFSETTO:-0400
TZNAME:EDT
END:DAYLIGHT
END:VTIMEZONE
END:VCALENDAR