BEGIN:VCALENDAR
VERSION:2.0
PRODID:-//wp-events-plugin.com//7.2.3.1//EN
TZID:America/New_York
X-WR-TIMEZONE:America/New_York
BEGIN:VEVENT
UID:4304@goriverwalk.com
DTSTART;TZID=America/New_York:20180303T103000
DTEND;TZID=America/New_York:20180303T113000
DTSTAMP:20180301T194907Z
URL:https://www.goriverwalk.com/greater-fort-lauderdale-events/las-olas-bo
 ulevard-safety-improvements-community-investment-project
SUMMARY:Las Olas Boulevard Safety Improvements Community Investment Project
DESCRIPTION:Join them for the ribbon cutting ceremony!
ATTACH;FMTTYPE=image/jpeg:https://www.goriverwalk.com/wp-content/uploads/2
 018/03/ribbon-cutting.jpg
CATEGORIES:Community
END:VEVENT
BEGIN:VTIMEZONE
TZID:America/New_York
X-LIC-LOCATION:America/New_York
BEGIN:STANDARD
DTSTART:20171105T010000
TZOFFSETFROM:-0400
TZOFFSETTO:-0500
TZNAME:EST
END:STANDARD
END:VTIMEZONE
END:VCALENDAR