BEGIN:VCALENDAR
VERSION:2.0
PRODID:-//wp-events-plugin.com//7.2.3.1//EN
TZID:America/New_York
X-WR-TIMEZONE:America/New_York
BEGIN:VEVENT
UID:14632@goriverwalk.com
DTSTART;TZID=America/New_York:20220903T130000
DTEND;TZID=America/New_York:20220903T210000
DTSTAMP:20220818T130911Z
URL:https://www.goriverwalk.com/greater-fort-lauderdale-events/labor-day-f
 estival
SUMMARY:Labor Day Festival
DESCRIPTION:Featuring Car Show\, Kids Zone\, and live music on 4 stages!
ATTACH;FMTTYPE=image/jpeg:https://www.goriverwalk.com/wp-content/uploads/2
 022/07/labor-day-image.jpg
CATEGORIES:Children,Cocktail,Community,Festival,Food,Holiday,Music
LOCATION:North Beach Restaurants and Shoppes\, 3300 NE 33rd St\, Fort Laude
 rdale\, FL\, 33308\, United States
X-APPLE-STRUCTURED-LOCATION;VALUE=URI;X-ADDRESS=3300 NE 33rd St\, Fort Laud
 erdale\, FL\, 33308\, United States;X-APPLE-RADIUS=100;X-TITLE=North Beach
  Restaurants and Shoppes:geo:0,0
END:VEVENT
BEGIN:VTIMEZONE
TZID:America/New_York
X-LIC-LOCATION:America/New_York
BEGIN:DAYLIGHT
DTSTART:20220313T030000
TZOFFSETFROM:-0500
TZOFFSETTO:-0400
TZNAME:EDT
END:DAYLIGHT
END:VTIMEZONE
END:VCALENDAR