BEGIN:VCALENDAR
VERSION:2.0
PRODID:-//wp-events-plugin.com//7.2.3.1//EN
TZID:America/New_York
X-WR-TIMEZONE:America/New_York
BEGIN:VEVENT
UID:14250@goriverwalk.com
DTSTART;TZID=America/New_York:20220723T070000
DTEND;TZID=America/New_York:20220723T070000
DTSTAMP:20220603T171635Z
URL:https://www.goriverwalk.com/greater-fort-lauderdale-events/kettle-krus
 h-5k-2
SUMMARY:Kettle Krush 5K
DESCRIPTION:Run\, walk or roll to "krush" poverty and homelessness
ATTACH;FMTTYPE=image/jpeg:https://www.goriverwalk.com/wp-content/uploads/2
 022/06/rsz_salvationarmy_kettlekrush5k_social_1080x1080_apr22.jpg
CATEGORIES:Community,Education,Fundraiser
LOCATION:Markham Park\, 16001 W State Road 84\, Sunrise\, Florida\, 33326\,
  Broward County\, United States
GEO:26.133592;-80.35194430000001
X-APPLE-STRUCTURED-LOCATION;VALUE=URI;X-ADDRESS=16001 W State Road 84\, Sun
 rise\, Florida\, 33326\, Broward County\, United States;X-APPLE-RADIUS=100
 ;X-TITLE=Markham Park:geo:26.133592,-80.35194430000001
END:VEVENT
BEGIN:VTIMEZONE
TZID:America/New_York
X-LIC-LOCATION:America/New_York
BEGIN:DAYLIGHT
DTSTART:20220313T030000
TZOFFSETFROM:-0500
TZOFFSETTO:-0400
TZNAME:EDT
END:DAYLIGHT
END:VTIMEZONE
END:VCALENDAR