BEGIN:VCALENDAR
VERSION:2.0
PRODID:-//wp-events-plugin.com//7.2.3.1//EN
TZID:America/New_York
X-WR-TIMEZONE:America/New_York
BEGIN:VEVENT
UID:3422@goriverwalk.com
DTSTART;TZID=America/New_York:20171108T081500
DTEND;TZID=America/New_York:20171108T181500
DTSTAMP:20170815T171015Z
URL:https://www.goriverwalk.com/greater-fort-lauderdale-events/keep-it-mov
 ing-real-estate-conference-expo
SUMMARY:Keep it Moving Real Estate Conference &amp\; Expo
DESCRIPTION:An intensive\, one-day event bringing together those in the rea
 l estate industry to network.
ATTACH;FMTTYPE=image/jpeg:https://www.goriverwalk.com/wp-content/uploads/2
 017/07/TW_PROFILE-PIC.jpg
CATEGORIES:Business
LOCATION:Hilton Miami Downtown\, 1601 Biscayne Boulevard\, Miami\, Florida\
 , 33132\, United States
GEO:25.790913;-80.188774
X-APPLE-STRUCTURED-LOCATION;VALUE=URI;X-ADDRESS=1601 Biscayne Boulevard\, M
 iami\, Florida\, 33132\, United States;X-APPLE-RADIUS=100;X-TITLE=Hilton M
 iami Downtown:geo:25.790913,-80.188774
END:VEVENT
BEGIN:VTIMEZONE
TZID:America/New_York
X-LIC-LOCATION:America/New_York
BEGIN:STANDARD
DTSTART:20171105T010000
TZOFFSETFROM:-0400
TZOFFSETTO:-0500
TZNAME:EST
END:STANDARD
END:VTIMEZONE
END:VCALENDAR