BEGIN:VCALENDAR
VERSION:2.0
PRODID:-//wp-events-plugin.com//7.2.3.1//EN
TZID:America/New_York
X-WR-TIMEZONE:America/New_York
BEGIN:VEVENT
UID:13908@goriverwalk.com
DTSTART;TZID=America/New_York:20220414T090000
DTEND;TZID=America/New_York:20220525T150000
DTSTAMP:20220328T183253Z
URL:https://www.goriverwalk.com/greater-fort-lauderdale-events/juxtapositi
 on-43rd-annual-student-exhibition
SUMMARY:JUXTAPOSITION: 43RD ANNUAL STUDENT EXHIBITION
DESCRIPTION:Featuring talented art students
ATTACH;FMTTYPE=image/jpeg:https://www.goriverwalk.com/wp-content/uploads/2
 022/03/juxtaposition-bc-calendar-thumbnail.jpg
CATEGORIES:Art
LOCATION:Broward College Rosemary Duffy Larson Gallery\, 3501 SW Davie Road
 \, Davie\, FL\, 33314\, United States
GEO:26.0788703;-80.23445600000002
X-APPLE-STRUCTURED-LOCATION;VALUE=URI;X-ADDRESS=3501 SW Davie Road\, Davie\
 , FL\, 33314\, United States;X-APPLE-RADIUS=100;X-TITLE=Broward College Ro
 semary Duffy Larson Gallery:geo:26.0788703,-80.23445600000002
END:VEVENT
BEGIN:VTIMEZONE
TZID:America/New_York
X-LIC-LOCATION:America/New_York
BEGIN:DAYLIGHT
DTSTART:20220313T030000
TZOFFSETFROM:-0500
TZOFFSETTO:-0400
TZNAME:EDT
END:DAYLIGHT
END:VTIMEZONE
END:VCALENDAR