BEGIN:VCALENDAR
VERSION:2.0
PRODID:-//wp-events-plugin.com//7.2.3.1//EN
TZID:America/New_York
X-WR-TIMEZONE:America/New_York
BEGIN:VEVENT
UID:4986@goriverwalk.com
DTSTART;TZID=America/New_York:20180619T180000
DTEND;TZID=America/New_York:20180619T200000
DTSTAMP:20180611T190524Z
URL:https://www.goriverwalk.com/greater-fort-lauderdale-events/juneteenth-
 social-2018
SUMMARY:Juneteenth Social 2018
DESCRIPTION:Games\, theater\, food and drink
ATTACH;FMTTYPE=image/jpeg:https://www.goriverwalk.com/wp-content/uploads/2
 018/06/old-dillard-museum-logo.jpg
CATEGORIES:Community,Cultural,History
LOCATION:Old Dillard Museum\, 1009 NW 4th Street\, Fort Lauderdale\, FL\, 3
 3311\, United States
GEO:26.1261853;-80.15509099999997
X-APPLE-STRUCTURED-LOCATION;VALUE=URI;X-ADDRESS=1009 NW 4th Street\, Fort L
 auderdale\, FL\, 33311\, United States;X-APPLE-RADIUS=100;X-TITLE=Old Dill
 ard Museum:geo:26.1261853,-80.15509099999997
END:VEVENT
BEGIN:VTIMEZONE
TZID:America/New_York
X-LIC-LOCATION:America/New_York
BEGIN:DAYLIGHT
DTSTART:20180311T030000
TZOFFSETFROM:-0500
TZOFFSETTO:-0400
TZNAME:EDT
END:DAYLIGHT
END:VTIMEZONE
END:VCALENDAR