BEGIN:VCALENDAR
VERSION:2.0
PRODID:-//wp-events-plugin.com//7.2.3.1//EN
TZID:America/New_York
X-WR-TIMEZONE:America/New_York
BEGIN:VEVENT
UID:2015@goriverwalk.com
DTSTART;TZID=America/New_York;VALUE=DATE:20160704
DTEND;TZID=America/New_York;VALUE=DATE:20160705
DTSTAMP:20160222T163101Z
URL:https://www.goriverwalk.com/greater-fort-lauderdale-events/july-4th-sp
 ectacular
SUMMARY:July 4th Spectacular
DESCRIPTION:A patriotic extravaganza with a kids zone\, live music\, and a 
 dazzling fireworks display.
ATTACH;FMTTYPE=image/jpeg:https://www.goriverwalk.com/wp-content/uploads/2
 015/12/Default-calendar-1.jpg
CATEGORIES:Holiday
LOCATION:Fort Lauderdale Beach\, 1100 Seabreeze Boulevard\, Fort Lauderdale
 \, Florida\, United States
GEO:26.1090197;-80.10628830000002
X-APPLE-STRUCTURED-LOCATION;VALUE=URI;X-ADDRESS=1100 Seabreeze Boulevard\, 
 Fort Lauderdale\, Florida\, United States;X-APPLE-RADIUS=100;X-TITLE=Fort 
 Lauderdale Beach:geo:26.1090197,-80.10628830000002
END:VEVENT
BEGIN:VTIMEZONE
TZID:America/New_York
X-LIC-LOCATION:America/New_York
BEGIN:DAYLIGHT
DTSTART:20160313T030000
TZOFFSETFROM:-0500
TZOFFSETTO:-0400
TZNAME:EDT
END:DAYLIGHT
END:VTIMEZONE
END:VCALENDAR