BEGIN:VCALENDAR
VERSION:2.0
PRODID:-//wp-events-plugin.com//7.2.3.1//EN
TZID:America/New_York
X-WR-TIMEZONE:America/New_York
BEGIN:VEVENT
UID:13093@goriverwalk.com
DTSTART;TZID=America/New_York:20220117T090000
DTEND;TZID=America/New_York:20220117T110000
DTSTAMP:20220111T202354Z
URL:https://www.goriverwalk.com/greater-fort-lauderdale-events/joint-neigh
 borhood-drive-thru-donation-drop
SUMMARY:Joint Neighborhood Drive Thru Donation Drop
DESCRIPTION:Seeking gently used clothes & shoes
ATTACH;FMTTYPE=image/jpeg:https://www.goriverwalk.com/wp-content/uploads/2
 017/11/Default-calendar.jpg
CATEGORIES:Community
LOCATION:Stranahan Landing\, 500 S. New River Drive East\, Fort Lauderdale\
 , FL\, 33301\, United States
X-APPLE-STRUCTURED-LOCATION;VALUE=URI;X-ADDRESS=500 S. New River Drive East
 \, Fort Lauderdale\, FL\, 33301\, United States;X-APPLE-RADIUS=100;X-TITLE
 =Stranahan Landing:geo:0,0
END:VEVENT
BEGIN:VTIMEZONE
TZID:America/New_York
X-LIC-LOCATION:America/New_York
BEGIN:STANDARD
DTSTART:20211107T010000
TZOFFSETFROM:-0400
TZOFFSETTO:-0500
TZNAME:EST
END:STANDARD
END:VTIMEZONE
END:VCALENDAR