BEGIN:VCALENDAR
VERSION:2.0
PRODID:-//wp-events-plugin.com//7.2.3.1//EN
TZID:America/New_York
X-WR-TIMEZONE:America/New_York
BEGIN:VEVENT
UID:22795@goriverwalk.com
DTSTART;TZID=America/New_York:20260516T190000
DTEND;TZID=America/New_York:20260516T223000
DTSTAMP:20260325T145930Z
URL:https://www.goriverwalk.com/greater-fort-lauderdale-events/joe-lovano-
 quartet
SUMMARY:Joe Lovano Quartet
DESCRIPTION:Bring a blanket or chair to the beautiful Hollywood ArtsPark fo
 r a FREE show by jazz legend Joe Lovano - real jazz by the living master o
 f the tenor sax and his quartet.\n\nJoe Lovano has performed and recorded 
 with a long list of jazz greats including Woody Herman\, Dr. Lonnie Smith\
 , Bill Frisell\, Tony Bennett\, Abbey Lincoln\, Charlie Haden\, John Scofi
 eld\, McCoy Tyner\, Ed Blackwell\, Herbie Hancock\, Dave Holland\, Chucho 
 Valdés\, Ornette Coleman\, Diana Krall\, and many others. Joe has created
  an extensive body of work for his own ensembles.\n\nOpening set by Fort L
 auderdale's award-winning Dillard Center for the Arts (DCA) Jazz Ensemble.
  This 21-member high school jazz band has been recognized nationally for i
 ts excellence\, winning the prestigious Essentially Ellington High School 
 Jazz Band Competition in New York City multiple times. The current directo
 r Voshaun Smith is an alumni of the band!\n\nThe Hollywood Arts Park Exper
 ience is produced by the Rhythm Foundation for the City of Hollywood.\n\nF
 or more information click here.
ATTACH;FMTTYPE=image/jpeg:https://www.goriverwalk.com/wp-content/uploads/2
 026/03/JoeLovanoQ-HAPexp_1x1-Medium-Small-Large.jpeg
CATEGORIES:Free,Music
LOCATION:Hollywood ArtsPark at Young Circle\, 1 N Young Circle\, Hollywood\
 , FL\, 33020\, United States
X-APPLE-STRUCTURED-LOCATION;VALUE=URI;X-ADDRESS=1 N Young Circle\, Hollywoo
 d\, FL\, 33020\, United States;X-APPLE-RADIUS=100;X-TITLE=Hollywood ArtsPa
 rk at Young Circle:geo:0,0
END:VEVENT
BEGIN:VTIMEZONE
TZID:America/New_York
X-LIC-LOCATION:America/New_York
BEGIN:DAYLIGHT
DTSTART:20260308T030000
TZOFFSETFROM:-0500
TZOFFSETTO:-0400
TZNAME:EDT
END:DAYLIGHT
END:VTIMEZONE
END:VCALENDAR