BEGIN:VCALENDAR
VERSION:2.0
PRODID:-//wp-events-plugin.com//7.2.3.1//EN
TZID:America/New_York
X-WR-TIMEZONE:America/New_York
BEGIN:VEVENT
UID:4292@goriverwalk.com
DTSTART;TZID=America/New_York:20180309T190000
DTEND;TZID=America/New_York:20180309T230000
DTSTAMP:20180228T154328Z
URL:https://www.goriverwalk.com/greater-fort-lauderdale-events/jarvis-jam-
 hosted-by-cystic-fibrosis-foundation
SUMMARY:Jarvis’ Jam Hosted by Cystic Fibrosis Foundation
DESCRIPTION:Join Jarvis Landry and country duo LOCASH for great food\, drin
 ks\, auction items\, and a special musical performance.
ATTACH;FMTTYPE=image/jpeg:https://www.goriverwalk.com/wp-content/uploads/2
 018/02/Jarvis-Jam.jpg
CATEGORIES:Community,Food,Fundraiser,Music
LOCATION:Hard Rock Stadium \, 347 Don Shula Drive \, Miami Gardens\, Florid
 a\, 33056\, United States
GEO:25.957867;-80.238770
X-APPLE-STRUCTURED-LOCATION;VALUE=URI;X-ADDRESS=347 Don Shula Drive \, Miam
 i Gardens\, Florida\, 33056\, United States;X-APPLE-RADIUS=100;X-TITLE=Har
 d Rock Stadium :geo:25.957867,-80.238770
END:VEVENT
BEGIN:VTIMEZONE
TZID:America/New_York
X-LIC-LOCATION:America/New_York
BEGIN:STANDARD
DTSTART:20171105T010000
TZOFFSETFROM:-0400
TZOFFSETTO:-0500
TZNAME:EST
END:STANDARD
END:VTIMEZONE
END:VCALENDAR