BEGIN:VCALENDAR
VERSION:2.0
PRODID:-//wp-events-plugin.com//7.2.3.1//EN
TZID:America/New_York
X-WR-TIMEZONE:America/New_York
BEGIN:VEVENT
UID:4362@goriverwalk.com
DTSTART;TZID=America/New_York:20180317T200000
DTEND;TZID=America/New_York:20180317T220000
DTSTAMP:20180305T211306Z
URL:https://www.goriverwalk.com/greater-fort-lauderdale-events/jane-bunnet
 t-masqueque
SUMMARY:Jane Bunnett & Masqueque
DESCRIPTION:Canadian Jane Bunnett brings together an all-female band of Cub
 an All-Stars
ATTACH;FMTTYPE=image/jpeg:https://www.goriverwalk.com/wp-content/uploads/2
 018/03/jane-bunnett-maqueque-2018.jpg
CATEGORIES:Cultural,Music
LOCATION:Bailey Hall\, Broward College’s A. Hugh Adams Central Campus\, 3
 501 Davie Road\, Davie\, Florida\, 33314\, Davie\, United States
GEO:26.079060;-80.233971
X-APPLE-STRUCTURED-LOCATION;VALUE=URI;X-ADDRESS=3501 Davie Road\, Davie\, F
 lorida\, 33314\, Davie\, United States;X-APPLE-RADIUS=100;X-TITLE=Bailey H
 all\, Broward College’s A. Hugh Adams Central Campus:geo:26.079060,-80.2
 33971
END:VEVENT
BEGIN:VTIMEZONE
TZID:America/New_York
X-LIC-LOCATION:America/New_York
BEGIN:DAYLIGHT
DTSTART:20180311T030000
TZOFFSETFROM:-0500
TZOFFSETTO:-0400
TZNAME:EDT
END:DAYLIGHT
END:VTIMEZONE
END:VCALENDAR