BEGIN:VCALENDAR
VERSION:2.0
PRODID:-//wp-events-plugin.com//7.2.3.1//EN
TZID:America/New_York
X-WR-TIMEZONE:America/New_York
BEGIN:VEVENT
UID:5833@goriverwalk.com
DTSTART;TZID=America/New_York:20181003T100000
DTEND;TZID=America/New_York:20181003T140000
DTSTAMP:20180918T194250Z
URL:https://www.goriverwalk.com/greater-fort-lauderdale-events/jafco-miche
 lle-goldstein-spirit-of-life-luncheon
SUMMARY:JAFCO Michelle Goldstein Spirit of Life Luncheon
DESCRIPTION:Featuring comedian Sarge
ATTACH;FMTTYPE=image/jpeg:https://www.goriverwalk.com/wp-content/uploads/2
 017/11/Default-calendar.jpg
CATEGORIES:Cocktail,Comedy,Food,Fundraiser
LOCATION:Temple Dor Dorim\, 2360 Glades Circle\, Weston\, FL\, 33327\, Unit
 ed States
GEO:26.1359804;-80.4224312
X-APPLE-STRUCTURED-LOCATION;VALUE=URI;X-ADDRESS=2360 Glades Circle\, Weston
 \, FL\, 33327\, United States;X-APPLE-RADIUS=100;X-TITLE=Temple Dor Dorim:
 geo:26.1359804,-80.4224312
END:VEVENT
BEGIN:VTIMEZONE
TZID:America/New_York
X-LIC-LOCATION:America/New_York
BEGIN:DAYLIGHT
DTSTART:20180311T030000
TZOFFSETFROM:-0500
TZOFFSETTO:-0400
TZNAME:EDT
END:DAYLIGHT
END:VTIMEZONE
END:VCALENDAR