BEGIN:VCALENDAR
VERSION:2.0
PRODID:-//wp-events-plugin.com//7.2.3.1//EN
TZID:America/New_York
X-WR-TIMEZONE:America/New_York
BEGIN:VEVENT
UID:4287@goriverwalk.com
DTSTART;TZID=America/New_York:20180421T190000
DTEND;TZID=America/New_York:20180421T230000
DTSTAMP:20180226T190738Z
URL:https://www.goriverwalk.com/greater-fort-lauderdale-events/jack-jill-f
 lip-flops-on-the-dock-2018
SUMMARY:Jack & Jill Flip Flops on the Dock 2018
DESCRIPTION:Annual beach-themed fundraiser
ATTACH;FMTTYPE=image/jpeg:https://www.goriverwalk.com/wp-content/uploads/2
 018/02/jack-jill.jpg
CATEGORIES:Cocktail,Fundraiser
LOCATION:Fort Lauderdale Yacht Club\, 1725 SE 12th Street\, Fort Lauderdale
 \, Florida\, 33316\, United States
GEO:26.108023;-80.12448899999998
X-APPLE-STRUCTURED-LOCATION;VALUE=URI;X-ADDRESS=1725 SE 12th Street\, Fort 
 Lauderdale\, Florida\, 33316\, United States;X-APPLE-RADIUS=100;X-TITLE=Fo
 rt Lauderdale Yacht Club:geo:26.108023,-80.12448899999998
END:VEVENT
BEGIN:VTIMEZONE
TZID:America/New_York
X-LIC-LOCATION:America/New_York
BEGIN:DAYLIGHT
DTSTART:20180311T030000
TZOFFSETFROM:-0500
TZOFFSETTO:-0400
TZNAME:EDT
END:DAYLIGHT
END:VTIMEZONE
END:VCALENDAR