BEGIN:VCALENDAR
VERSION:2.0
PRODID:-//wp-events-plugin.com//7.2.3.1//EN
TZID:America/New_York
X-WR-TIMEZONE:America/New_York
BEGIN:VEVENT
UID:7669@goriverwalk.com
DTSTART;TZID=America/New_York:20190927T180000
DTEND;TZID=America/New_York:20190927T200000
DTSTAMP:20190731T182100Z
URL:https://www.goriverwalk.com/greater-fort-lauderdale-events/ja-bowl-a-t
 hon-3
SUMMARY:JA Bowl-A-Thon
DESCRIPTION:Dress to Glow!
ATTACH;FMTTYPE=image/jpeg:https://www.goriverwalk.com/wp-content/uploads/2
 019/06/2019-Bowl-A-Thon-logo-1-1.jpg
CATEGORIES:Fundraiser
LOCATION:SpareZ Bowling Center\, 5325 S. University Drive\, Davie\, Florida
 \, 33328\, United States
GEO:26.0524402;-80.25211969999998
X-APPLE-STRUCTURED-LOCATION;VALUE=URI;X-ADDRESS=5325 S. University Drive\, 
 Davie\, Florida\, 33328\, United States;X-APPLE-RADIUS=100;X-TITLE=SpareZ 
 Bowling Center:geo:26.0524402,-80.25211969999998
END:VEVENT
BEGIN:VTIMEZONE
TZID:America/New_York
X-LIC-LOCATION:America/New_York
BEGIN:DAYLIGHT
DTSTART:20190310T030000
TZOFFSETFROM:-0500
TZOFFSETTO:-0400
TZNAME:EDT
END:DAYLIGHT
END:VTIMEZONE
END:VCALENDAR