BEGIN:VCALENDAR
VERSION:2.0
PRODID:-//wp-events-plugin.com//7.2.3.1//EN
TZID:America/New_York
X-WR-TIMEZONE:America/New_York
BEGIN:VEVENT
UID:16257@goriverwalk.com
DTSTART;TZID=America/New_York:20230128T110000
DTEND;TZID=America/New_York:20230128T130000
DTSTAMP:20230124T164602Z
URL:https://www.goriverwalk.com/greater-fort-lauderdale-events/ishof-dive-
 challenge
SUMMARY:ISHOF DIVE CHALLENGE
DESCRIPTION:World class Olympic divers
ATTACH;FMTTYPE=image/jpeg:https://www.goriverwalk.com/wp-content/uploads/2
 023/01/Capture1.jpg
CATEGORIES:Sports
LOCATION:International Swimming Hall of Fame\, 1 Hall of Fame Drive\, Fort 
 Lauderdale\, FL\, 33316\, United States
X-APPLE-STRUCTURED-LOCATION;VALUE=URI;X-ADDRESS=1 Hall of Fame Drive\, Fort
  Lauderdale\, FL\, 33316\, United States;X-APPLE-RADIUS=100;X-TITLE=Intern
 ational Swimming Hall of Fame:geo:0,0
END:VEVENT
BEGIN:VTIMEZONE
TZID:America/New_York
X-LIC-LOCATION:America/New_York
BEGIN:STANDARD
DTSTART:20221106T010000
TZOFFSETFROM:-0400
TZOFFSETTO:-0500
TZNAME:EST
END:STANDARD
END:VTIMEZONE
END:VCALENDAR