BEGIN:VCALENDAR
VERSION:2.0
PRODID:-//wp-events-plugin.com//7.2.3.1//EN
TZID:America/New_York
X-WR-TIMEZONE:America/New_York
BEGIN:VEVENT
UID:22842@goriverwalk.com
DTSTART;TZID=America/New_York:20260611T180000
DTEND;TZID=America/New_York:20260611T210000
DTSTAMP:20260422T135541Z
URL:https://www.goriverwalk.com/greater-fort-lauderdale-events/introductio
 n-to-clay-hand-building-2
SUMMARY:Introduction to Clay – Hand Building
DESCRIPTION:Introduction to Clay – Hand Building is a bi-weekly program w
 here students learn basic elements of clay hand building methods. Although
  each session is designed to work independently\, it is recommended for st
 udents to take various workshops to perfect the medium and become comforta
 ble with the materials.\n\nOne hand-built object will be made during class
 . Underglaze (color) will be added during class by the student\, work will
  be cleaned up and bisque fired after work has dried\, clear glaze will be
  applied by the instructor after first firing\, and a second firing to fin
 ish the piece will be run immediately after. A 1.5 to 2 weeks turnaround o
 n work to be finished and taken home.\n\nNote: At least one Hand Building 
 workshop is a pre-requisite for Wheel Throwing.\n\nSecond Thursdays ｜ 6:
 00 - 9:00 PM\nFourth Saturdays ｜ 11:00 AM - 2:00 PM\n\nClick here for mo
 re information.\n\n&nbsp\;
ATTACH;FMTTYPE=image/jpeg:https://www.goriverwalk.com/wp-content/uploads/2
 026/03/image.webp
CATEGORIES:Art,Community,Hobby
LOCATION:Bailey Contemporary Arts\, 41 NE 1st Street\, Pompano Beach\, FL\,
  33060\, United States
GEO:26.2326406;-80.12453199999999
X-APPLE-STRUCTURED-LOCATION;VALUE=URI;X-ADDRESS=41 NE 1st Street\, Pompano 
 Beach\, FL\, 33060\, United States;X-APPLE-RADIUS=100;X-TITLE=Bailey Conte
 mporary Arts:geo:26.2326406,-80.12453199999999
END:VEVENT
BEGIN:VTIMEZONE
TZID:America/New_York
X-LIC-LOCATION:America/New_York
BEGIN:DAYLIGHT
DTSTART:20260308T030000
TZOFFSETFROM:-0500
TZOFFSETTO:-0400
TZNAME:EDT
END:DAYLIGHT
END:VTIMEZONE
END:VCALENDAR