BEGIN:VCALENDAR
VERSION:2.0
PRODID:-//wp-events-plugin.com//7.2.3.1//EN
TZID:America/New_York
X-WR-TIMEZONE:America/New_York
BEGIN:VEVENT
UID:2856@goriverwalk.com
DTSTART;TZID=America/New_York:20170110T190000
DTEND;TZID=America/New_York:20171128T213000
DTSTAMP:20170116T202552Z
URL:https://www.goriverwalk.com/greater-fort-lauderdale-events/internation
 al-tuesdays-at-gulfstream-park-2
SUMMARY:International Tuesdays at Gulfstream Park
DESCRIPTION:Featuring live music with genres from around the world.
ATTACH;FMTTYPE=image/jpeg:https://www.goriverwalk.com/wp-content/uploads/2
 017/01/small-Champions-Plaza_Gulfstream-Park.jpg
CATEGORIES:Community,Music
LOCATION:Gulfstream Park\, 901 South Federal Highway\, Hallandale Beach\, F
 L \, 33009\, United States
GEO:25.981481;-80.140399
X-APPLE-STRUCTURED-LOCATION;VALUE=URI;X-ADDRESS=901 South Federal Highway\,
  Hallandale Beach\, FL \, 33009\, United States;X-APPLE-RADIUS=100;X-TITLE
 =Gulfstream Park:geo:25.981481,-80.140399
END:VEVENT
BEGIN:VTIMEZONE
TZID:America/New_York
X-LIC-LOCATION:America/New_York
BEGIN:STANDARD
DTSTART:20161106T010000
TZOFFSETFROM:-0400
TZOFFSETTO:-0500
TZNAME:EST
END:STANDARD
BEGIN:DAYLIGHT
DTSTART:20170312T030000
TZOFFSETFROM:-0500
TZOFFSETTO:-0400
TZNAME:EDT
END:DAYLIGHT
BEGIN:STANDARD
DTSTART:20171105T010000
TZOFFSETFROM:-0400
TZOFFSETTO:-0500
TZNAME:EST
END:STANDARD
END:VTIMEZONE
END:VCALENDAR