BEGIN:VCALENDAR
VERSION:2.0
PRODID:-//wp-events-plugin.com//7.2.3.1//EN
TZID:America/New_York
X-WR-TIMEZONE:America/New_York
BEGIN:VEVENT
UID:14791@goriverwalk.com
DTSTART;TZID=America/New_York:20221018T093000
DTEND;TZID=America/New_York:20221020T123000
DTSTAMP:20220830T160609Z
URL:https://www.goriverwalk.com/greater-fort-lauderdale-events/intermediat
 e-watercolor-workshop
SUMMARY:Intermediate Watercolor Workshop
DESCRIPTION:A 3-day workshop
ATTACH;FMTTYPE=image/jpeg:https://www.goriverwalk.com/wp-content/uploads/2
 022/08/BONNET-INTERMED-WATERCOLOR-1.jpg
CATEGORIES:Art
LOCATION:Bonnet House Museum &amp\; Gardens\, 900 N. Birch Road\, Fort Laud
 erdale\, FL\, 33304\, FL\, United States
GEO:26.135141;-80.104465
X-APPLE-STRUCTURED-LOCATION;VALUE=URI;X-ADDRESS=900 N. Birch Road\, Fort La
 uderdale\, FL\, 33304\, FL\, United States;X-APPLE-RADIUS=100;X-TITLE=Bonn
 et House Museum & Gardens:geo:26.135141,-80.104465
END:VEVENT
BEGIN:VTIMEZONE
TZID:America/New_York
X-LIC-LOCATION:America/New_York
BEGIN:DAYLIGHT
DTSTART:20220313T030000
TZOFFSETFROM:-0500
TZOFFSETTO:-0400
TZNAME:EDT
END:DAYLIGHT
END:VTIMEZONE
END:VCALENDAR