BEGIN:VCALENDAR
VERSION:2.0
PRODID:-//wp-events-plugin.com//7.2.3.1//EN
TZID:America/New_York
X-WR-TIMEZONE:America/New_York
BEGIN:VEVENT
UID:15757@goriverwalk.com
DTSTART;TZID=America/New_York:20221201T073000
DTEND;TZID=America/New_York:20221201T093000
DTSTAMP:20221128T184339Z
URL:https://www.goriverwalk.com/greater-fort-lauderdale-events/inflation-t
 he-election-and-your-wallet
SUMMARY:Inflation\, the Election and Your Wallet
DESCRIPTION:Hear from a panel of experts
ATTACH;FMTTYPE=image/jpeg:https://www.goriverwalk.com/wp-content/uploads/2
 022/10/Tower-Forum-logo.png
CATEGORIES:Business
LOCATION:Tower Club\, 100 S.E. 3rd Avenue\, Fort Lauderdale\, FL\, 33394\, 
 United States
GEO:26.1218238;-80.1398054
X-APPLE-STRUCTURED-LOCATION;VALUE=URI;X-ADDRESS=100 S.E. 3rd Avenue\, Fort 
 Lauderdale\, FL\, 33394\, United States;X-APPLE-RADIUS=100;X-TITLE=Tower C
 lub:geo:26.1218238,-80.1398054
END:VEVENT
BEGIN:VTIMEZONE
TZID:America/New_York
X-LIC-LOCATION:America/New_York
BEGIN:STANDARD
DTSTART:20221106T010000
TZOFFSETFROM:-0400
TZOFFSETTO:-0500
TZNAME:EST
END:STANDARD
END:VTIMEZONE
END:VCALENDAR