BEGIN:VCALENDAR
VERSION:2.0
PRODID:-//wp-events-plugin.com//7.2.3.1//EN
TZID:America/New_York
X-WR-TIMEZONE:America/New_York
BEGIN:VEVENT
UID:12780@goriverwalk.com
DTSTART;TZID=America/New_York:20211113T110000
DTEND;TZID=America/New_York:20211113T150000
DTSTAMP:20211108T163403Z
URL:https://www.goriverwalk.com/greater-fort-lauderdale-events/indie-autho
 r-day
SUMMARY:Indie Author Day
DESCRIPTION:Workshops for writers
ATTACH;FMTTYPE=image/jpeg:https://www.goriverwalk.com/wp-content/uploads/2
 021/11/Indie-Author-Day-Events-1113-e1636034417398.jpg
CATEGORIES:Business,Education
END:VEVENT
BEGIN:VTIMEZONE
TZID:America/New_York
X-LIC-LOCATION:America/New_York
BEGIN:STANDARD
DTSTART:20211107T010000
TZOFFSETFROM:-0400
TZOFFSETTO:-0500
TZNAME:EST
END:STANDARD
END:VTIMEZONE
END:VCALENDAR