BEGIN:VCALENDAR
VERSION:2.0
PRODID:-//wp-events-plugin.com//7.2.3.1//EN
TZID:America/New_York
X-WR-TIMEZONE:America/New_York
BEGIN:VEVENT
UID:8138@goriverwalk.com
DTSTART;TZID=America/New_York:20190831T180000
DTEND;TZID=America/New_York:20190831T230000
DTSTAMP:20190827T200711Z
URL:https://www.goriverwalk.com/greater-fort-lauderdale-events/in-flite-co
 cktails
SUMMARY:IN-FLITE Cocktails
DESCRIPTION:With Celebrity Bartenders
ATTACH;FMTTYPE=image/jpeg:https://www.goriverwalk.com/wp-content/uploads/2
 019/08/in-FLITE-cocktails.jpg
CATEGORIES:Cocktail,Fundraiser
LOCATION:General Provision\, 525 NW 1st Avenue\, Fort Lauderdale\, FL\, 333
 01\, United States
GEO:26.1288238;-80.1449743
X-APPLE-STRUCTURED-LOCATION;VALUE=URI;X-ADDRESS=525 NW 1st Avenue\, Fort La
 uderdale\, FL\, 33301\, United States;X-APPLE-RADIUS=100;X-TITLE=General P
 rovision:geo:26.1288238,-80.1449743
END:VEVENT
BEGIN:VTIMEZONE
TZID:America/New_York
X-LIC-LOCATION:America/New_York
BEGIN:DAYLIGHT
DTSTART:20190310T030000
TZOFFSETFROM:-0500
TZOFFSETTO:-0400
TZNAME:EDT
END:DAYLIGHT
END:VTIMEZONE
END:VCALENDAR