BEGIN:VCALENDAR
VERSION:2.0
PRODID:-//wp-events-plugin.com//7.2.3.1//EN
TZID:America/New_York
X-WR-TIMEZONE:America/New_York
BEGIN:VEVENT
UID:5692@goriverwalk.com
DTSTART;TZID=America/New_York:20181117T083000
DTEND;TZID=America/New_York:20181117T113000
DTSTAMP:20180823T185547Z
URL:https://www.goriverwalk.com/greater-fort-lauderdale-events/immune-defi
 ciency-foundation-walk
SUMMARY:Immune Deficiency Foundation Walk
DESCRIPTION:Raising funds for the diagnosis &amp\; treatment of PI
ATTACH;FMTTYPE=image/jpeg:https://www.goriverwalk.com/wp-content/uploads/2
 018/08/Screen-Shot-2018-08-23-at-8.56.46-AM.png
CATEGORIES:Community,Fundraiser
LOCATION:Snyder Park\, 3299 SW 4th Ave\, Fort Lauderdale\, FL\, 33315\, Uni
 ted States
GEO:26.082714;-80.14818500000001
X-APPLE-STRUCTURED-LOCATION;VALUE=URI;X-ADDRESS=3299 SW 4th Ave\, Fort Laud
 erdale\, FL\, 33315\, United States;X-APPLE-RADIUS=100;X-TITLE=Snyder Park
 :geo:26.082714,-80.14818500000001
END:VEVENT
BEGIN:VTIMEZONE
TZID:America/New_York
X-LIC-LOCATION:America/New_York
BEGIN:STANDARD
DTSTART:20181104T010000
TZOFFSETFROM:-0400
TZOFFSETTO:-0500
TZNAME:EST
END:STANDARD
END:VTIMEZONE
END:VCALENDAR