BEGIN:VCALENDAR
VERSION:2.0
PRODID:-//wp-events-plugin.com//7.2.3.1//EN
TZID:America/New_York
X-WR-TIMEZONE:America/New_York
BEGIN:VEVENT
UID:8536@goriverwalk.com
DTSTART;TZID=America/New_York:20191105T200000
DTEND;TZID=America/New_York:20191105T220000
DTSTAMP:20191031T162246Z
URL:https://www.goriverwalk.com/greater-fort-lauderdale-events/i-rish-you-
 were-here-comedy-show
SUMMARY:I-rish You Were Here Comedy Show
DESCRIPTION:Chris Cope headlining
ATTACH;FMTTYPE=image/jpeg:https://www.goriverwalk.com/wp-content/uploads/2
 017/11/Default-calendar.jpg
CATEGORIES:Comedy
LOCATION:Kelly Brother's Irish Pub\, 3045 N Federal Hwy\, Fort Lauderdale\,
  FL\, 33306\, United States
X-APPLE-STRUCTURED-LOCATION;VALUE=URI;X-ADDRESS=3045 N Federal Hwy\, Fort L
 auderdale\, FL\, 33306\, United States;X-APPLE-RADIUS=100;X-TITLE=Kelly Br
 other's Irish Pub:geo:0,0
END:VEVENT
BEGIN:VTIMEZONE
TZID:America/New_York
X-LIC-LOCATION:America/New_York
BEGIN:STANDARD
DTSTART:20191103T010000
TZOFFSETFROM:-0400
TZOFFSETTO:-0500
TZNAME:EST
END:STANDARD
END:VTIMEZONE
END:VCALENDAR