BEGIN:VCALENDAR
VERSION:2.0
PRODID:-//wp-events-plugin.com//7.2.3.1//EN
TZID:America/New_York
X-WR-TIMEZONE:America/New_York
BEGIN:VEVENT
UID:15420@goriverwalk.com
DTSTART;TZID=America/New_York:20221105T183000
DTEND;TZID=America/New_York:20221105T220000
DTSTAMP:20221025T132119Z
URL:https://www.goriverwalk.com/greater-fort-lauderdale-events/hugs-kisses
 -tropical-party
SUMMARY:Hugs & Kisses Tropical Party
DESCRIPTION:A night of music and fun
ATTACH;FMTTYPE=image/jpeg:https://www.goriverwalk.com/wp-content/uploads/2
 022/10/APR-Logo.png
CATEGORIES:Cocktail,Food,Fundraiser
LOCATION:Church by the Sea\, 2700 Mayan Drive\, Fort Lauderdale\, FL\, 3331
 6\, United States
GEO:26.1007539;-80.11044770000001
X-APPLE-STRUCTURED-LOCATION;VALUE=URI;X-ADDRESS=2700 Mayan Drive\, Fort Lau
 derdale\, FL\, 33316\, United States;X-APPLE-RADIUS=100;X-TITLE=Church by 
 the Sea:geo:26.1007539,-80.11044770000001
END:VEVENT
BEGIN:VTIMEZONE
TZID:America/New_York
X-LIC-LOCATION:America/New_York
BEGIN:DAYLIGHT
DTSTART:20220313T030000
TZOFFSETFROM:-0500
TZOFFSETTO:-0400
TZNAME:EDT
END:DAYLIGHT
END:VTIMEZONE
END:VCALENDAR