BEGIN:VCALENDAR
VERSION:2.0
PRODID:-//wp-events-plugin.com//7.2.3.1//EN
TZID:America/New_York
X-WR-TIMEZONE:America/New_York
BEGIN:VEVENT
UID:7175@goriverwalk.com
DTSTART;TZID=America/New_York:20190427T090000
DTEND;TZID=America/New_York:20190427T140000
DTSTAMP:20190403T195357Z
URL:https://www.goriverwalk.com/greater-fort-lauderdale-events/household-h
 azardous-waste-drop-off-2
SUMMARY:Household Hazardous Waste Drop-Off
DESCRIPTION:Goodwill donation and medication take back event as well
ATTACH;FMTTYPE=image/jpeg:https://www.goriverwalk.com/wp-content/uploads/2
 019/04/hhw-drop-off.jpg
CATEGORIES:Community
LOCATION:Mills Pond Park\, 2201 NW 9th Avenue\, Fort Lauderdale\, FL\, 3331
 1\, United States
GEO:26.1574509;-80.15714100000002
X-APPLE-STRUCTURED-LOCATION;VALUE=URI;X-ADDRESS=2201 NW 9th Avenue\, Fort L
 auderdale\, FL\, 33311\, United States;X-APPLE-RADIUS=100;X-TITLE=Mills Po
 nd Park:geo:26.1574509,-80.15714100000002
END:VEVENT
BEGIN:VTIMEZONE
TZID:America/New_York
X-LIC-LOCATION:America/New_York
BEGIN:DAYLIGHT
DTSTART:20190310T030000
TZOFFSETFROM:-0500
TZOFFSETTO:-0400
TZNAME:EDT
END:DAYLIGHT
END:VTIMEZONE
END:VCALENDAR