BEGIN:VCALENDAR
VERSION:2.0
PRODID:-//wp-events-plugin.com//7.2.3.1//EN
TZID:America/New_York
X-WR-TIMEZONE:America/New_York
BEGIN:VEVENT
UID:2449@goriverwalk.com
DTSTART;TZID=America/New_York:20160908T121500
DTEND;TZID=America/New_York:20160908T140000
DTSTAMP:20160802T131104Z
URL:https://www.goriverwalk.com/greater-fort-lauderdale-events/home-for-4k
 ids-grand-opening
SUMMARY:Home for 4KIDS Grand Opening
DESCRIPTION:Join in on the celebration and mark the milestone of the Home f
 or 4KIDS.
ATTACH;FMTTYPE=image/jpeg:https://www.goriverwalk.com/wp-content/uploads/2
 015/12/Default-calendar.jpg
CATEGORIES:Business
LOCATION:Home for 4KIDS\, 2717 W. Cypress Creek Rd\, Fort Lauderdale\, FL\,
  33309\, Broward\, United States
GEO:26.203138;-80.18052599999999
X-APPLE-STRUCTURED-LOCATION;VALUE=URI;X-ADDRESS=2717 W. Cypress Creek Rd\, 
 Fort Lauderdale\, FL\, 33309\, Broward\, United States;X-APPLE-RADIUS=100;
 X-TITLE=Home for 4KIDS:geo:26.203138,-80.18052599999999
END:VEVENT
BEGIN:VTIMEZONE
TZID:America/New_York
X-LIC-LOCATION:America/New_York
BEGIN:DAYLIGHT
DTSTART:20160313T030000
TZOFFSETFROM:-0500
TZOFFSETTO:-0400
TZNAME:EDT
END:DAYLIGHT
END:VTIMEZONE
END:VCALENDAR