BEGIN:VCALENDAR
VERSION:2.0
PRODID:-//wp-events-plugin.com//7.2.3.1//EN
TZID:America/New_York
X-WR-TIMEZONE:America/New_York
BEGIN:VEVENT
UID:5980@goriverwalk.com
DTSTART;TZID=America/New_York:20181122T060000
DTEND;TZID=America/New_York:20181122T060000
DTSTAMP:20181008T170959Z
URL:https://www.goriverwalk.com/greater-fort-lauderdale-events/holy-cross-
 hospital-fort-lauderdale-turkey-trot
SUMMARY:Holy Cross Hospital Fort Lauderdale Turkey Trot
DESCRIPTION:Raising money for charity
ATTACH;FMTTYPE=image/jpeg:https://www.goriverwalk.com/wp-content/uploads/2
 018/10/Turkey-Trot-Logo-2018.png
CATEGORIES:Fundraiser
LOCATION:D.C. Alexander Park\, 505 N. Fort Lauderdale Beach Blvd.\, Fort La
 uderdale \, Florida\, 33304\, United States
GEO:26.129435;-80.104385
X-APPLE-STRUCTURED-LOCATION;VALUE=URI;X-ADDRESS=505 N. Fort Lauderdale Beac
 h Blvd.\, Fort Lauderdale \, Florida\, 33304\, United States;X-APPLE-RADIU
 S=100;X-TITLE=D.C. Alexander Park:geo:26.129435,-80.104385
END:VEVENT
BEGIN:VTIMEZONE
TZID:America/New_York
X-LIC-LOCATION:America/New_York
BEGIN:STANDARD
DTSTART:20181104T010000
TZOFFSETFROM:-0400
TZOFFSETTO:-0500
TZNAME:EST
END:STANDARD
END:VTIMEZONE
END:VCALENDAR