BEGIN:VCALENDAR
VERSION:2.0
PRODID:-//wp-events-plugin.com//7.2.3.1//EN
TZID:America/New_York
X-WR-TIMEZONE:America/New_York
BEGIN:VEVENT
UID:2310@goriverwalk.com
DTSTART;TZID=America/New_York:20160806T110000
DTEND;TZID=America/New_York:20160806T140000
DTSTAMP:20160427T145032Z
URL:https://www.goriverwalk.com/greater-fort-lauderdale-events/holidays-to
 -spare-holiday-mash-up-bowling-tournament
SUMMARY:Holidays to Spare! Holiday Mash Up Bowling Tournament
DESCRIPTION:Bowling for a cause.
ATTACH;FMTTYPE=image/jpeg:https://www.goriverwalk.com/wp-content/uploads/2
 015/12/Default-calendar.jpg
CATEGORIES:Hobby,Holiday
LOCATION:BrunswickZone Margate Bowling Alley\, 2020 FL-7\, Margate\, Florid
 a\, 33063\, United States
GEO:26.253077;-80.20047779999999
X-APPLE-STRUCTURED-LOCATION;VALUE=URI;X-ADDRESS=2020 FL-7\, Margate\, Flori
 da\, 33063\, United States;X-APPLE-RADIUS=100;X-TITLE=BrunswickZone Margat
 e Bowling Alley:geo:26.253077,-80.20047779999999
END:VEVENT
BEGIN:VTIMEZONE
TZID:America/New_York
X-LIC-LOCATION:America/New_York
BEGIN:DAYLIGHT
DTSTART:20160313T030000
TZOFFSETFROM:-0500
TZOFFSETTO:-0400
TZNAME:EDT
END:DAYLIGHT
END:VTIMEZONE
END:VCALENDAR