BEGIN:VCALENDAR
VERSION:2.0
PRODID:-//wp-events-plugin.com//7.2.3.1//EN
TZID:America/New_York
X-WR-TIMEZONE:America/New_York
BEGIN:VEVENT
UID:8547@goriverwalk.com
DTSTART;TZID=America/New_York:20191205T180000
DTEND;TZID=America/New_York:20191205T220000
DTSTAMP:20191104T163112Z
URL:https://www.goriverwalk.com/greater-fort-lauderdale-events/holiday-fie
 sta
SUMMARY:Holiday Fiesta
DESCRIPTION:Supporting classroom needs of local children
ATTACH;FMTTYPE=image/jpeg:https://www.goriverwalk.com/wp-content/uploads/2
 019/11/Holiday-Fiesta.jpg
CATEGORIES:Business,Holiday
LOCATION:The Hideaway\, 21 W Las Olas\, Fort Lauderdale\, FL\, 33301\, Unit
 ed States
GEO:26.1196197;-80.14429760000002
X-APPLE-STRUCTURED-LOCATION;VALUE=URI;X-ADDRESS=21 W Las Olas\, Fort Lauder
 dale\, FL\, 33301\, United States;X-APPLE-RADIUS=100;X-TITLE=The Hideaway:
 geo:26.1196197,-80.14429760000002
END:VEVENT
BEGIN:VTIMEZONE
TZID:America/New_York
X-LIC-LOCATION:America/New_York
BEGIN:STANDARD
DTSTART:20191103T010000
TZOFFSETFROM:-0400
TZOFFSETTO:-0500
TZNAME:EST
END:STANDARD
END:VTIMEZONE
END:VCALENDAR